BEGIN:VCALENDAR
VERSION:2.0
PRODID:-//SIOP
CALSCALE:GREGORIAN
METHOD:PUBLISH
X-WR-CALNAME:SIOP
X-ORIGINAL-URL:https://siop-online.org/event/4th-international-conference-on-lymphocyte-engineering-icle-2023/
X-WR-CALDESC:4th International Conference on Lymphocyte Engineering &#8211; ICLE 2023
BEGIN:VEVENT
DTSTART:20230912T000000
DTEND:20230914T000000
SUMMARY:4th International Conference on Lymphocyte Engineering &#8211; ICLE 2023
DESCRIPTION:Join the only community across industry and academia dedicated to lymphocyte engineering!
LOCATION:
END:VEVENT
END:VCALENDAR
